BEGIN:VCALENDAR
VERSION:2.0
PRODID:-//Lions of MacTier - ECPv6.15.20//NONSGML v1.0//EN
CALSCALE:GREGORIAN
METHOD:PUBLISH
X-ORIGINAL-URL:https://mactierlions.com
X-WR-CALDESC:Events for Lions of MacTier
REFRESH-INTERVAL;VALUE=DURATION:PT1H
X-Robots-Tag:noindex
X-PUBLISHED-TTL:PT1H
BEGIN:VTIMEZONE
TZID:UTC
BEGIN:STANDARD
TZOFFSETFROM:+0000
TZOFFSETTO:+0000
TZNAME:UTC
DTSTART:20250101T000000
END:STANDARD
END:VTIMEZONE
BEGIN:VEVENT
DTSTART;TZID=UTC:20260519T193000
DTEND;TZID=UTC:20260519T210000
DTSTAMP:20260421T183314
CREATED:20260319T182620Z
LAST-MODIFIED:20260319T182620Z
UID:801139-1779219000-1779224400@mactierlions.com
SUMMARY:Business Meeting
DESCRIPTION:
URL:https://mactierlions.com/calendar/business-meeting-2/
LOCATION:MacTier Lions Hall
END:VEVENT
BEGIN:VEVENT
DTSTART;VALUE=DATE:20260530
DTEND;VALUE=DATE:20260531
DTSTAMP:20260421T183314
CREATED:20260319T182759Z
LAST-MODIFIED:20260319T182759Z
UID:801141-1780099200-1780185599@mactierlions.com
SUMMARY:Day of Service #2
DESCRIPTION:
URL:https://mactierlions.com/calendar/day-of-service-2/
LOCATION:Downtown MacTier
END:VEVENT
BEGIN:VEVENT
DTSTART;TZID=UTC:20261003T180000
DTEND;TZID=UTC:20261003T210000
DTSTAMP:20260421T183314
CREATED:20260319T183009Z
LAST-MODIFIED:20260319T183009Z
UID:801143-1791050400-1791061200@mactierlions.com
SUMMARY:Glow in the Dark Diabetes Walk
DESCRIPTION:
URL:https://mactierlions.com/calendar/glow-in-the-dark-diabetes-walk/
LOCATION:Parry Sound Trail
END:VEVENT
END:VCALENDAR